BEGIN:VCALENDAR
VERSION:2.0
PRODID:icalendar-ruby
CALSCALE:GREGORIAN
METHOD:PUBLISH
BEGIN:VEVENT
DTSTAMP:20260425T013102Z
UID:event-156939@stampinup.net
DTSTART;TZID=America/Denver:20220809T200000
DTEND;TZID=America/Denver:20220809T210000
CREATED:20220623T212835
DESCRIPTION:Online training to help you to be the best demonstrator you can
  be!  All team members are welcome!\nRegister here.\n\nEvent link: https:
 //stampinup.net/crm/events/156939
LAST-MODIFIED:20220722T213225
LOCATION:Zoom Classroom
ORGANIZER;CN=Marilyn Wagner:mailto:marilyn.wagner@shaw.ca
SUMMARY:Team Training Chat
URL;VALUE=URI:https://stampinup.net/crm/events/156939
END:VEVENT
END:VCALENDAR
