BEGIN:VCALENDAR
VERSION:2.0
PRODID:icalendar-ruby
CALSCALE:GREGORIAN
METHOD:PUBLISH
BEGIN:VEVENT
DTSTAMP:20260424T143535Z
UID:event-156315@stampinup.net
DTSTART;TZID=Europe/Berlin:20220626T043000
DTEND;TZID=Europe/Berlin:20220626T053000
CREATED:20220617T065514
DESCRIPTION:Erlebnis Event zum Katalogstart des neuen Minikatalogs Herbst\,
  Weihnachten\, Winter 2022\nDabei ist die Sale-a-Bration Aktion\, also nic
 ht verpassen\n\nEvent link: https://stampinup.net/crm/events/156315
LAST-MODIFIED:20220617T065514
LOCATION:Online-Veranstaltung\, youTube
ORGANIZER;CN=Hannelore Drews:mailto:info@hobbycompany.de
SUMMARY:Katalog-Party MiniKatalog
URL;VALUE=URI:https://stampinup.net/crm/events/156315
END:VEVENT
END:VCALENDAR
