BEGIN:VCALENDAR
VERSION:2.0
PRODID:icalendar-ruby
CALSCALE:GREGORIAN
METHOD:PUBLISH
BEGIN:VEVENT
DTSTAMP:20260421T100137Z
UID:event-156100@stampinup.net
DTSTART;TZID=America/Chicago:20220922T103000
DTEND;TZID=America/Chicago:20220922T123000
CREATED:20220613T130007
DESCRIPTION:Get your spot for the July through December club today!\n\nMont
 hly Stamp Clubs: This is a monthly event that runs for 6 months consecutiv
 ely.  Each member is a hostess and receives the hostess benefits.  We ma
 ke 2-3 projects each month with your $30 order.  This is a great class if
  you are looking for new techniques\, idea\, or more embellishments to you
 r projects. New members receive a board book to keep a sample and instruct
 ions of the technique handy. \n\n**Please have your orders ready by the d
 ates below.  If you are unsure of your day\, just confirm with me. Use th
 e host code or I can enter\, and it ships here. \n\n\nEvent link: https://
 stampinup.net/crm/events/156100
LAST-MODIFIED:20220613T130007
LOCATION:My House\, 4108 Katy Court
ORGANIZER;CN=Laura Venvertloh:mailto:laurascreativecorner2007@gmail.com
SUMMARY:Thursday Morning Stamp Club
URL;VALUE=URI:https://stampinup.net/crm/events/156100
END:VEVENT
END:VCALENDAR
