BEGIN:VCALENDAR
VERSION:2.0
PRODID:icalendar-ruby
CALSCALE:GREGORIAN
METHOD:PUBLISH
BEGIN:VEVENT
DTSTAMP:20260424T155416Z
UID:event-155896@stampinup.net
DTSTART;TZID=America/New_York:20220630T110000
DTEND;TZID=America/New_York:20220630T113000
CREATED:20220610T212104
DESCRIPTION:Rustic Barn Stampers Team Meeting where we will welcome new tea
 m members\, celebrate team members achievements\, say Happy Birthday to te
 am members who are celebrating birthdays that month. Live crafting\, busin
 ess training\, and Stampin'Up! updates! We will meet by zoom live stream o
 r Facebook Team meeting page!\n\nEvent link: https://stampinup.net/crm/eve
 nts/155896
LAST-MODIFIED:20220610T212104
LOCATION:RusticBarnCards with Terri!\, Zoom link!
ORGANIZER;CN=Terri Hartley:mailto:rusticbarncards@gmail.com
SUMMARY:  Team Meeting-Rustic Barn Stampers!
URL;VALUE=URI:https://stampinup.net/crm/events/155896
END:VEVENT
END:VCALENDAR
