BEGIN:VCALENDAR
VERSION:2.0
PRODID:icalendar-ruby
CALSCALE:GREGORIAN
METHOD:PUBLISH
BEGIN:VEVENT
DTSTAMP:20260420T215033Z
UID:event-155786@stampinup.net
DTSTART;TZID=America/Los_Angeles:20220813T100000
DTEND;TZID=America/Los_Angeles:20220813T120000
CREATED:20220608T225708
DESCRIPTION:Cardmaking Class\nYou're invited to attend this monthly cardmak
 ing class.  I'll show you how to make handmade cards using stamps\, ink a
 nd paper. I bring all the materials you need.  Plus I'll help you put tog
 ether your own set of supplies and tools so you can keep crafting with con
 fidence.\n\nThis card making class is open to all levels of stampers. If y
 ou've never stamped before\, I'd love to teach you how. It's fun and easy!
 \n\nThe cost is $15 or FREE with a minimum $25 Stampin' Up! order.\n\nEven
 t link: https://stampinup.net/crm/events/155786
LAST-MODIFIED:20220608T230156
LOCATION:Pasquinelli's\, Lower Lake\, California
ORGANIZER;CN=Angela Curry:mailto:kindredstamper@gmail.com
SUMMARY:Coffee and Card
URL;VALUE=URI:https://stampinup.net/crm/events/155786
END:VEVENT
END:VCALENDAR
