BEGIN:VCALENDAR
VERSION:2.0
PRODID:icalendar-ruby
CALSCALE:GREGORIAN
METHOD:PUBLISH
BEGIN:VEVENT
DTSTAMP:20260426T021619Z
UID:event-155050@stampinup.net
DTSTART;TZID=America/New_York:20220715T190000
DTEND;TZID=America/New_York:20220715T210000
CREATED:20220602T085920
DESCRIPTION:Registration is open for my July workshop featuring the Season 
 of Chic bundle.  Participants will need the stamp set\, matching dies\, a
 nd die cutting machine.  Register via this link https://conta.cc/394wBCq
 \n\nEvent link: https://stampinup.net/crm/events/155050
LAST-MODIFIED:20220602T085920
LOCATION:Zoom Class
ORGANIZER;CN=Judy Klock:mailto:craftyklock@gmail.com
SUMMARY:Monthly Virtual Workshop 
URL;VALUE=URI:https://stampinup.net/crm/events/155050
END:VEVENT
END:VCALENDAR
