BEGIN:VCALENDAR
VERSION:2.0
PRODID:icalendar-ruby
CALSCALE:GREGORIAN
METHOD:PUBLISH
BEGIN:VEVENT
DTSTAMP:20260424T221030Z
UID:event-155004@stampinup.net
DTSTART;TZID=Australia/Brisbane:20220715T093000
DTEND;TZID=Australia/Brisbane:20220715T120000
CREATED:20220601T235633
DESCRIPTION:Make 2 gorgeous Fancy Fold Cards.\nClass fee includes a beautif
 ul colour PDF of instructions and more ideas for cards using the same fold
 .\nCost $20.00 includes all supplies.  Please RSVP by Wednesday\n\nEvent 
 link: https://stampinup.net/crm/events/155004
LAST-MODIFIED:20220601T235633
LOCATION:My Home\, 31 Sugar view Lane Rosemount
ORGANIZER;CN=Julia Quinn:mailto:julia@handmadebyjuliaquinn.com
SUMMARY:Fancy Fold cards
URL;VALUE=URI:https://stampinup.net/crm/events/155004
END:VEVENT
END:VCALENDAR
