BEGIN:VCALENDAR
VERSION:2.0
PRODID:icalendar-ruby
CALSCALE:GREGORIAN
METHOD:PUBLISH
BEGIN:VEVENT
DTSTAMP:20260424T223239Z
UID:event-154994@stampinup.net
DTSTART;TZID=Australia/Brisbane:20220618T180000
DTEND;TZID=Australia/Brisbane:20220618T210000
CREATED:20220601T234602
DESCRIPTION:\n\nEvent link: https://stampinup.net/crm/events/154994
LAST-MODIFIED:20220601T234602
LOCATION:My Home\, 31 Sugar view Lane Rosemount
ORGANIZER;CN=Julia Quinn:mailto:julia@handmadebyjuliaquinn.com
SUMMARY:Creativity Now Stampin' Up! event
URL;VALUE=URI:https://stampinup.net/crm/events/154994
END:VEVENT
END:VCALENDAR
