BEGIN:VCALENDAR
VERSION:2.0
PRODID:icalendar-ruby
CALSCALE:GREGORIAN
METHOD:PUBLISH
BEGIN:VEVENT
DTSTAMP:20260422T045541Z
UID:event-154991@stampinup.net
DTSTART;TZID=Australia/Brisbane:20220616T093000
DTEND;TZID=Australia/Brisbane:20220616T120000
CREATED:20220601T234213
DESCRIPTION:Make the most of the Kits BOGO sale - buy your kit and come to 
 class and let's create together!!  Class is free - only cost is the price
  of your kit.  Head to my online store here to see the great selection of
  kits.  \n\nEvent link: https://stampinup.net/crm/events/154991
LAST-MODIFIED:20220601T234213
LOCATION:My Home\, 31 Sugar view Lane Rosemount
ORGANIZER;CN=Julia Quinn:mailto:julia@handmadebyjuliaquinn.com
SUMMARY:Kit Class
URL;VALUE=URI:https://stampinup.net/crm/events/154991
END:VEVENT
END:VCALENDAR
