BEGIN:VCALENDAR
VERSION:2.0
PRODID:icalendar-ruby
CALSCALE:GREGORIAN
METHOD:PUBLISH
BEGIN:VEVENT
DTSTAMP:20260419T162946Z
UID:event-154984@stampinup.net
DTSTART;TZID=Australia/Brisbane:20220603T093000
DTEND;TZID=Australia/Brisbane:20220603T120000
CREATED:20220601T232745
DESCRIPTION:Miura Fold Class - includes PDF of this fun fold\n\nEvent link:
  https://stampinup.net/crm/events/154984
LAST-MODIFIED:20220601T232745
LOCATION:My Home\, 31 Sugar view Lane Rosemount
ORGANIZER;CN=Julia Quinn:mailto:julia@handmadebyjuliaquinn.com
SUMMARY:Cardmaking Class
URL;VALUE=URI:https://stampinup.net/crm/events/154984
END:VEVENT
END:VCALENDAR
