BEGIN:VCALENDAR
VERSION:2.0
PRODID:icalendar-ruby
CALSCALE:GREGORIAN
METHOD:PUBLISH
BEGIN:VEVENT
DTSTAMP:20260426T023016Z
UID:event-154477@stampinup.net
DTSTART;TZID=America/Chicago:20220609T190000
DTEND;TZID=America/Chicago:20220609T210000
CREATED:20220529T161008
DESCRIPTION:You will make 2 simple cards for your class fee of $5!  This i
 s a class geared for new crafters\, crafters on a time schedule\, or just 
 need a creative escape!  Don't be intimidated-you CAN be creative!  I pr
 omise! \n\n\nEvent link: https://stampinup.net/crm/events/154477
LAST-MODIFIED:20220607T143419
LOCATION:My House\, 4108 Katy Court
ORGANIZER;CN=Laura Venvertloh:mailto:laurascreativecorner2007@gmail.com
SUMMARY:Sweet & Simple Cards
URL;VALUE=URI:https://stampinup.net/crm/events/154477
END:VEVENT
END:VCALENDAR
