BEGIN:VCALENDAR
VERSION:2.0
PRODID:icalendar-ruby
CALSCALE:GREGORIAN
METHOD:PUBLISH
BEGIN:VEVENT
DTSTAMP:20260420T222423Z
UID:event-153318@stampinup.net
DTSTART;TZID=America/Denver:20221120T140000
DTEND;TZID=America/Denver:20221120T160000
CREATED:20220518T083816
DESCRIPTION:CLASS IS FULL!\nCome and get started on your Holiday Cards!!  
 We'll make 12 cards:  4 each of 3 designs!   \n\nCost is only $25!\n\nP
 ayment must be made in advance to hold your spot.\nPlease mail a check to:
 \nTammy Fite\n6115 Medford Ct NW\nAlbuquerque\, NM 87120\nor\nVenmo:  @tk
 fite\n\nSpace is limited to 6 people per class\, so register early!  (REG
 ISTRATION CLOSES ON Nov 13)\n\n\n \n\nEvent link: https://stampinup.net/c
 rm/events/153318
LAST-MODIFIED:20220817T113139
LOCATION:Tammy's House\, 6115 Medford Ct NW
ORGANIZER;CN=Tammy Fite:mailto:stampwithtammy@gmail.com
SUMMARY:Holiday Card Class!  (3 of 3)
URL;VALUE=URI:https://stampinup.net/crm/events/153318
END:VEVENT
END:VCALENDAR
