BEGIN:VCALENDAR
VERSION:2.0
PRODID:icalendar-ruby
CALSCALE:GREGORIAN
METHOD:PUBLISH
BEGIN:VEVENT
DTSTAMP:20260424T141306Z
UID:event-152512@stampinup.net
DTSTART;TZID=Australia/Sydney:20220513T100000
DTEND;TZID=Australia/Sydney:20220513T121500
CREATED:20220508T205343
DESCRIPTION:The 2022 Stampin' Up! Catalogue is now here!\n\nCome and join i
 n my official Kick Off.\n\nSee and play with some of the new products.\n\n
 See the fun new Incolors.\n\nMeet and chat with other crafty friends.\n\nB
 e urge tobook your seat as places are filling fast.\n\nWHERE: In my studio
  in East Corrimal\n\nWHEN: Friday13th May 10am (full)\n            
  Friday 13th May 7pm (if demand)\n             Saturday 14th May 2p
 m.\n\nCOST: $25.  Receive a pack of embellishments as a Thank You.\n\nRSV
 P: Wed. 11th May.\n \n\nEvent link: https://stampinup.net/crm/events/1525
 12
LAST-MODIFIED:20220508T205343
LOCATION:Stamping Studio\, East Corrimal
ORGANIZER;CN=Jenny Hayward:mailto:jghayward@yahoo.com
SUMMARY:Kick Off the 2022 Catalogue
URL;VALUE=URI:https://stampinup.net/crm/events/152512
END:VEVENT
END:VCALENDAR
