BEGIN:VCALENDAR
VERSION:2.0
PRODID:icalendar-ruby
CALSCALE:GREGORIAN
METHOD:PUBLISH
BEGIN:VEVENT
DTSTAMP:20260424T191944Z
UID:event-152461@stampinup.net
DTSTART;TZID=America/Denver:20220611T093000
DTEND;TZID=America/Denver:20220611T113000
CREATED:20220508T082047
DESCRIPTION:Come and make some great cards!  We'll make 12 cards--2 each o
 f 6 designs!\nPlease bring your favorite adhesive!  All other supplies wi
 ll be provided!\nCost is $25\, and must be paid in advance to reserve your
  spot.\nMail a check to:\nTammy Fite\n6115 Medford Ct NW\nABQ\, NM 87120 
 \nor Venmo to @tkfite\n \n\nEvent link: https://stampinup.net/crm/events/
 152461
LAST-MODIFIED:20220608T080007
LOCATION:Tammy's House\, 6115 Medford Ct NW
ORGANIZER;CN=Tammy Fite:mailto:stampwithtammy@gmail.com
SUMMARY:June Stamp-a-Stack!
URL;VALUE=URI:https://stampinup.net/crm/events/152461
END:VEVENT
END:VCALENDAR
