BEGIN:VCALENDAR
VERSION:2.0
PRODID:icalendar-ruby
CALSCALE:GREGORIAN
METHOD:PUBLISH
BEGIN:VEVENT
DTSTAMP:20260421T001851Z
UID:event-152393@stampinup.net
DTSTART;TZID=America/New_York:20220616T190000
DTEND;TZID=America/New_York:20220616T213000
CREATED:20220506T182050
DESCRIPTION:Come make 6 cards (3 designs) with me! Live\, Zoom or Packet to
  go! \n\nclass fee - $30 order\nRSVP by 6/13\n\nEvent link: https://stamp
 inup.net/crm/events/152393
LAST-MODIFIED:20220506T182050
ORGANIZER;CN=Bonnie Allers-O'Neill:mailto:bonniestamp@yahoo.com
SUMMARY:Card Class
URL;VALUE=URI:https://stampinup.net/crm/events/152393
END:VEVENT
END:VCALENDAR
