BEGIN:VCALENDAR
VERSION:2.0
PRODID:icalendar-ruby
CALSCALE:GREGORIAN
METHOD:PUBLISH
BEGIN:VEVENT
DTSTAMP:20260421T100136Z
UID:event-152301@stampinup.net
DTSTART;TZID=America/Chicago:20220622T130000
DTEND;TZID=America/Chicago:20220622T160000
CREATED:20220505T143113
DESCRIPTION:My stampin' friend\, Jonita\, is hosting a card swap while she 
 &amp\; others from the DFW are here for a visit.\n\nRSVP by 6/19/22 -- thi
 s is limited to 10 people.\n\nHere are the details:\nYou will bring your o
 wn supplies to make up to 10 cards of the same design (we will have the de
 finite number to prepare for by 6/19/22).\n\nHere are the guidelines:\n--&
 gt\;&gt\;Stampin' Up! materials only -- current merchandise encouraged\, b
 ut retired okay\n--&gt\;&gt\;Minimum of 2 layers &amp\; 1 embellishment\n-
 -&gt\;&gt\;No envelopes\n\nPlease bring a snack to share and your own drin
 k.\n\nYou're encouraged to make your prototype ahead of time\, then bring 
 the supplies to make the necessary number of cards. We will all be working
  on them during this event.\n\n\nEvent link: https://stampinup.net/crm/eve
 nts/152301
LAST-MODIFIED:20220505T143113
LOCATION:Sharon's Stampin' Studio\, Lubbock\, TX
ORGANIZER;CN=Sharon McCartney:mailto:yentraccm_sk@yahoo.com
SUMMARY:Jonita's Card Swap
URL;VALUE=URI:https://stampinup.net/crm/events/152301
END:VEVENT
END:VCALENDAR
