BEGIN:VCALENDAR
VERSION:2.0
PRODID:icalendar-ruby
CALSCALE:GREGORIAN
METHOD:PUBLISH
BEGIN:VEVENT
DTSTAMP:20260425T111805Z
UID:event-151510@stampinup.net
DTSTART;TZID=America/New_York:20220504T193000
DTEND;TZID=America/New_York:20220504T200000
CREATED:20220501T033751
DESCRIPTION:Exclusive to the members of the CraftD Cave facebook group. \n
 Tonight Mom and I are kicking off the new catalogue.  \nWould you like t
 o join the CraftD Cave facebook group? We would love to see you there.  
 \n \n\nEvent link: https://stampinup.net/crm/events/151510
LAST-MODIFIED:20220501T033751
ORGANIZER;CN=Denise Donald:mailto:craftdbear@rogers.com
SUMMARY:Facebook Live Mom & Me 
URL;VALUE=URI:https://stampinup.net/crm/events/151510
END:VEVENT
END:VCALENDAR
