BEGIN:VCALENDAR
VERSION:2.0
PRODID:icalendar-ruby
CALSCALE:GREGORIAN
METHOD:PUBLISH
BEGIN:VEVENT
DTSTAMP:20260419T212313Z
UID:event-15143@stampinup.net
DTSTART;TZID=America/Halifax:20191121T130000
DTEND;TZID=America/Halifax:20191121T150000
CREATED:20190930T224455
DESCRIPTION:Winter Wonders with Paper Pumpkin\n\nDo you regret not getting 
 last month's Paper Pumkin kit?  The theme was Winter Wonders and this is 
 what the cards looked like...I was so upset that I forgot to add extra kit
 s on my subscription\, but that's what happens when you put things off! gr
 rrr!\n\n\nDid you know there is a Part two to the Winter Wonders theme?  
 This month\, it's the same theme\, but the kit comes with supplies to crea
 te 24 Christmas tags!  So you won't wanna miss your chance again to get 
 your hands on an awesome project kit!\nSo if you'd like to get your kit\, 
 and come over to my place to make your tags with friends &amp\; apple cide
 r\, then register now to hold your spot.  I will preorder the kits for ev
 eryone who registers\, but the deadline is Nov 10th\, so make sure you tel
 l me as soon as you decide on it\, so that you don't miss out again this m
 onth!\n\nYour kit also comes with a stamp set and a mini ink pad that you 
 get to keep after the class\, so you'll be able to create more stuff with 
 it.  Plus the kit comes in a beautiful design box.\n\nClass is $35 (tax 
 &amp\; ship incl)\n\nIf you'd like an extra kit for yourself or to give aw
 ay\, just mention it to me by Nov 10th.  So let's get together to create 
 these projects! \nPlus\, the first 8 to register will get to create one o
 f the Christmas cards from October's kit for FREE!\n\nIf you prefer subscr
 ibing to Paper Pumpkin today\, here's how:\n1-  Subscribe to Paper Pumpki
 n by November 10th  HERE .  Your kit will be shipped to your house direc
 tly from  the warehouse with Fedex. You'll pay with a Credit Card\, and c
 an cancel your subscription any time.\n2-  Email me at stampinjo@gmail.co
 m by Nov 10th &amp\; I will order it through my subscription for you.  
 But I can only accept cash\, cheque or etransfers.  \n\n\nEvent link: ht
 tps://stampinup.net/crm/events/15143
LAST-MODIFIED:20191027T232957
LOCATION:In my home\, 50 Renshaw Ave\, Moncton\, NB 
ORGANIZER;CN=Joanne Perry:mailto:stampinjo@gmail.com
SUMMARY:Christmas Tags class
URL;VALUE=URI:https://stampinup.net/crm/events/15143
END:VEVENT
END:VCALENDAR
