BEGIN:VCALENDAR
VERSION:2.0
PRODID:icalendar-ruby
CALSCALE:GREGORIAN
METHOD:PUBLISH
BEGIN:VEVENT
DTSTAMP:20260419T173003Z
UID:event-15132@stampinup.net
DTSTART;TZID=America/New_York:20191029T090000
DTEND;TZID=America/New_York:20191029T150000
CREATED:20190930T215808
DESCRIPTION:Come join me for a fun day of card making.  Contact me for a c
 omplete list of projects to choose from.  RSVP‘S  are needed to save y
 our seat.  Space is limited.\n\nEvent link: https://stampinup.net/crm/eve
 nts/15132
LAST-MODIFIED:20190930T220703
LOCATION:Nancy's Home\, 3860A Highland Avenue
ORGANIZER;CN=Nancy Thompson:mailto:stampinnancyink@gmail.com
SUMMARY:Fall Classes
URL;VALUE=URI:https://stampinup.net/crm/events/15132
END:VEVENT
END:VCALENDAR
