BEGIN:VCALENDAR
VERSION:2.0
PRODID:icalendar-ruby
CALSCALE:GREGORIAN
METHOD:PUBLISH
BEGIN:VEVENT
DTSTAMP:20260420T021805Z
UID:event-151104@stampinup.net
DTSTART;TZID=America/New_York:20220524T180000
DTEND;TZID=America/New_York:20220524T203000
CREATED:20220427T125710
DESCRIPTION:This meeting is a chance to find out what's up with our team\, 
 talk about all things Stampin' Up!\, discuss business building\, share som
 e creativty and be social.\nWant to learn how you can join this amaizing g
 roup?  Contact me today!\n\nEvent link: https://stampinup.net/crm/events/
 151104
LAST-MODIFIED:20220427T125710
LOCATION:the Stamp Pad\, Raleigh\, NC
ORGANIZER;CN=Tracie Langley:mailto:tracie@stampwithtracie.com
SUMMARY:the Stamp Pad Society Team Meeting
URL;VALUE=URI:https://stampinup.net/crm/events/151104
END:VEVENT
END:VCALENDAR
