BEGIN:VCALENDAR
VERSION:2.0
PRODID:icalendar-ruby
CALSCALE:GREGORIAN
METHOD:PUBLISH
BEGIN:VEVENT
DTSTAMP:20260421T135555Z
UID:event-150981@stampinup.net
DTSTART;TZID=America/Los_Angeles:20220611T093000
DTEND;TZID=America/Los_Angeles:20220612T150000
CREATED:20220426T141938
DESCRIPTION:Do you find yourself searching for masculine cards for the men 
 in your life? Are you ready for another MEGA stamp camp with 16 AWESOME pr
 ojects? Join me and 7 incredibly talented friends as we bring you our He
 ’s The Man MEGA Stamp Camp!  This will be a full weekend stamp camp\, J
 une 11-12\, 2022\, from 9:30 am to 3:00 pm PDT on both days! It will be a 
 fabulous weekend\, crafting together online from anywhere in Canada! PLEAS
 E READ THE FOLLOWING DETAILS CAREFULLY!\n\n \n\nWhat does the He’s The 
 Man MEGA Stamp Camp include?\n\n \n\n\n	16 Make ‘n Take Kits for 16 awe
 some projects including all cardstock\, envelopes\, and any die cuts not i
 ncluded in the He’s All That Bundle!\n	Unlimited access to an EXCLUSIVE 
 Facebook group just for stamp camp attendees!\n	16 Video Tutorials! These 
 will be LIVE but recorded so you can watch again later!\n	16 Written Tutor
 ials in a printable PDF!\n	An Entry into our Prize Draws!\n\n\n \n\nAll y
 ou need are inks\, adhesives\, a Blending Brush\, a Sponge Dauber\, a pape
 r trimmer to cut your Designer Series Paper and a die cutting machine such
  as our Stampin’ Cut &amp\; Emboss Machine. A list of supplies will be p
 rovided ahead of time!\n\n \n\nOption 1: Get all of the above FREE with t
 he purchase of the He’s The Man Suite Collection (159083) for $94.00 + s
 hipping/taxes from my online store\, starting May 3rd. \n\n \n\nHere is t
 he link to order with my stamp camp host code:\n\nhttps://www.stampinup.ca
 /products/he-s-the-man-suite-collection-english?hostcode=G2RV9WSB \n\n \n
 \nOrder early on May 3rd (when our 2022-2023 Annual Catalogue goes LIVE) t
 o be sure to get your order in time (with less chance of backorders)\, but
  no later than May 25th!\n\n \n\nOption 2: Do you already have the He’s
  All That Bundle (stamp set &amp\; dies)? No problem! Get the 16 Make ‘n
  Take Kits\, Facebook videos and PDF tutorials\, as well as the He’s The
  Man 12” x 12” Specialty Designer Series Paper and Rustic Metallic Adh
 esive-Backed Dots for $65! Register on the link below by May 25th and pay 
 by etransfer if you’d like Option 2! \n\n \n\nOption 3 (for outside of 
 Canada only): For $25 CAD\, you will have access to the videos and PDF tut
 orials\, and can join us on Facebook! Register on the link below by June 8
 th and I’ll send you a Paypal invoice!\n\n \n\nMake ‘n Take packages 
 will be mailed by May 30th. With the mail being unpredictable\, there is a
  small possibility that they will arrive after the stamp camp. No worries 
 as you can enjoy the weekend with us and put your Make ‘n Takes together
  afterwards! You can also pick up your package from my home in Langley\, B
 C.\n\n\nEvent link: https://stampinup.net/crm/events/150981
LAST-MODIFIED:20220504T163954
LOCATION:Online -FB Group
ORGANIZER;CN=Gillian Long:mailto:gillianllong@gmail.com
SUMMARY:He's The Man MEGA Stamp Camp
URL;VALUE=URI:https://stampinup.net/crm/events/150981
END:VEVENT
END:VCALENDAR
