BEGIN:VCALENDAR
VERSION:2.0
PRODID:icalendar-ruby
CALSCALE:GREGORIAN
METHOD:PUBLISH
BEGIN:VEVENT
DTSTAMP:20260420T065039Z
UID:event-15092@stampinup.net
DTSTART;TZID=Pacific/Auckland:20191005T133000
DTEND;TZID=Pacific/Auckland:20191005T160000
CREATED:20190930T213222
DESCRIPTION:Perfectly wrapped for Christmas. Design your own wrapping paper
  with matching tags and create table gifts.\nAll materials are supplied al
 ong with free tea &amp\; coffee and sweet treat.\nSpaces are limited so bo
 ok early at http://www.confetticardstudio.nz/class-calendar/ \nPlease con
 tact me if you need more details.\n\nEvent link: https://stampinup.net/crm
 /events/15092
LAST-MODIFIED:20190930T213222
LOCATION:Confetti Card Studio\, Once you register
ORGANIZER;CN=Vanessa Baker:mailto:vanessa@confetticardstudio.nz
SUMMARY:Gift Wrap & Table Decoration Class
URL;VALUE=URI:https://stampinup.net/crm/events/15092
END:VEVENT
END:VCALENDAR
