BEGIN:VCALENDAR
VERSION:2.0
PRODID:icalendar-ruby
CALSCALE:GREGORIAN
METHOD:PUBLISH
BEGIN:VEVENT
DTSTAMP:20260424T122946Z
UID:event-150905@stampinup.net
DTSTART;TZID=America/Chicago:20220809T143000
DTEND;TZID=America/Chicago:20220809T170000
CREATED:20220425T173038
DESCRIPTION:Members - Please have your club orders in by August 9th. Class 
 supplies will be available for porch pickup or can be mailed to you if you
  do not wish to attend in person. Please register for classes before the e
 nd of the previous month.\n\nLOCAL STAMP CLUB\nMake a commitment to order 
 a minimum of $25 of merchandise each month and receive $5.00 OFF monthly c
 lasses. Additional $1 OFF the class for each additional $5 that you order.
  Get FREE Catalogs while you are a member.  Place your monthly order by t
 he stamp club date. I will keep track of your orders.  When you have reac
 hed $250 in merchandise\, you will receive $25 in hostess benefits with yo
 ur next order.  You can pick up your monthly order at the next month’s 
 class. You can attend class on any of the class dates\, you are not restri
 cted to the stamp club date. If there is a month when I do not hold in per
 son classes\, I will email you a pdf tutorial for the cards of the month.\
 n\nONLINE STAMP CLUB\nMake a commitment to order a minimum of $25 of merch
 andise (before shipping &amp\; tax) each month in my online store using th
 e monthly hostess code by the stamp club date.  I will keep track of your
  orders.  When you have reached $250 in merchandise\, you will receive $2
 5 in hostess benefits with your next order. (To get free shipping on your 
 hostess benefits\, it must accompany an order. I will have to place that o
 rder for you.  You will be responsible for sales tax on the hostess benef
 its.) I will email you a pdf tutorial each month for the class cards of th
 e month. If you wish to purchase the supplies for the class\, you may do s
 o using the same discounts as the local members plus shipping. Class suppl
 y kits must be ordered by the order deadline each month.\n\nEvent link: ht
 tps://stampinup.net/crm/events/150905
LAST-MODIFIED:20220425T173038
ORGANIZER;CN=Susan Miller:mailto:STAMPIN@DREAMLAKEDESIGN.COM
SUMMARY:Stamp Club Meeting
URL;VALUE=URI:https://stampinup.net/crm/events/150905
END:VEVENT
END:VCALENDAR
