BEGIN:VCALENDAR
VERSION:2.0
PRODID:icalendar-ruby
CALSCALE:GREGORIAN
METHOD:PUBLISH
BEGIN:VEVENT
DTSTAMP:20260425T150646Z
UID:event-150899@stampinup.net
DTSTART;TZID=America/Chicago:20220616T170000
DTEND;TZID=America/Chicago:20220616T200000
CREATED:20220425T170114
DESCRIPTION: \nWe will make 5 beautiful hand stamped cards.\n\nTuesday\, J
 une 14\, 2:30 - 5:00 pm\nThursday\, June 16\, 5:00 - 8:00 pm\nPrice $15.00
 \nReserve your spot now!\nMasks will be required inside the house. Bring y
 our adhesives and Basic Tool Kit.  Please put your name on all your item
 s. Adhesives will also be available for purchase at class.\n \n\nEvent li
 nk: https://stampinup.net/crm/events/150899
LAST-MODIFIED:20220508T154410
ORGANIZER;CN=Susan Miller:mailto:STAMPIN@DREAMLAKEDESIGN.COM
SUMMARY:June Stampin' Class
URL;VALUE=URI:https://stampinup.net/crm/events/150899
END:VEVENT
END:VCALENDAR
