BEGIN:VCALENDAR
VERSION:2.0
PRODID:icalendar-ruby
CALSCALE:GREGORIAN
METHOD:PUBLISH
BEGIN:VEVENT
DTSTAMP:20260421T180530Z
UID:event-150523@stampinup.net
DTSTART;VALUE=DATE:20220501
DTEND;VALUE=DATE:20220501
CREATED:20220421T125115
DESCRIPTION:Today's the day I put in an order for Free Catalogues to be sen
 t to my customers who placed a minimum order of $50.00 in the past six mon
 ths.  They'll be receiving the next Occasions and Sale-A-Bration catalogu
 es.  If you'd like to be on that list contact me soon.   \n\nEvent link
 : https://stampinup.net/crm/events/150523
LAST-MODIFIED:20220421T125144
ORGANIZER;CN=Penny Hanuszak:mailto:pennyhanuszak@telus.net
SUMMARY:Mailing Selector for SUMMER SAB begins
URL;VALUE=URI:https://stampinup.net/crm/events/150523
END:VEVENT
END:VCALENDAR
