BEGIN:VCALENDAR
VERSION:2.0
PRODID:icalendar-ruby
CALSCALE:GREGORIAN
METHOD:PUBLISH
BEGIN:VEVENT
DTSTAMP:20260421T172723Z
UID:event-15024@stampinup.net
DTSTART;VALUE=DATE:20200102
DTEND;VALUE=DATE:20200102
CREATED:20190930T163248
DESCRIPTION:Last day to order from the 2019 Holiday Catalog! Be sure your o
 rder is placed by 10 pm local time. Contact me if you have any questions.
  \n\nEvent link: https://stampinup.net/crm/events/15024
LAST-MODIFIED:20190930T163248
LOCATION:Online
ORGANIZER;CN=Sandy McManus:mailto:needsaribbon@gmail.com
SUMMARY:Last Day for the Holiday 2019 Catalog
URL;VALUE=URI:https://stampinup.net/crm/events/15024
END:VEVENT
END:VCALENDAR
