BEGIN:VCALENDAR
VERSION:2.0
PRODID:icalendar-ruby
CALSCALE:GREGORIAN
METHOD:PUBLISH
BEGIN:VEVENT
DTSTAMP:20260423T135310Z
UID:event-150206@stampinup.net
DTSTART;TZID=America/New_York:20220730T180000
DTEND;TZID=America/New_York:20220730T200000
CREATED:20220419T112311
DESCRIPTION:RSVP by July 11\, 2022\n\nCost $22 + $4 S&amp\;H\n\nWe will mak
 e 8 Cards total: 3 each of the top 2 designs and 2 of the bottom card whic
 h is a diorama card. Card kits do not included stamped images or glue\, bu
 t all paper and embellishments are included and ready to assemble. Email
  me if you have any questions or need help purchasing supplies.\n\n\nEvent
  link: https://stampinup.net/crm/events/150206
LAST-MODIFIED:20220624T123005
LOCATION:Zoom\, zoom
ORGANIZER;CN=Tracie Clarke:mailto:craftwithtlc@gmail.com
SUMMARY:July Card Class
URL;VALUE=URI:https://stampinup.net/crm/events/150206
END:VEVENT
END:VCALENDAR
