BEGIN:VCALENDAR
VERSION:2.0
PRODID:icalendar-ruby
CALSCALE:GREGORIAN
METHOD:PUBLISH
BEGIN:VEVENT
DTSTAMP:20260423T145336Z
UID:event-150203@stampinup.net
DTSTART;TZID=America/New_York:20220708T190000
DTEND;TZID=America/New_York:20220708T210000
CREATED:20220419T111837
DESCRIPTION:Time to get ready for the Fall holidays! The new mini starts Ju
 ly 1 along with Sale-A-Bration. Let's get together via zoom and look at th
 e new products available to help you get all your cards ready for the fall
  holidays! This is a free event and if you RSVP by June 27 you will receiv
 e a free card kit using new products. I will also be giving away door priz
 es during the zoom event so you don't want to miss it!\n\nEvent link: http
 s://stampinup.net/crm/events/150203
LAST-MODIFIED:20220624T122924
LOCATION:zoom\, zoom
ORGANIZER;CN=Tracie Clarke:mailto:craftwithtlc@gmail.com
SUMMARY:Mini Catalog Debut Class
URL;VALUE=URI:https://stampinup.net/crm/events/150203
END:VEVENT
END:VCALENDAR
