BEGIN:VCALENDAR
VERSION:2.0
PRODID:icalendar-ruby
CALSCALE:GREGORIAN
METHOD:PUBLISH
BEGIN:VEVENT
DTSTAMP:20260420T120000Z
UID:event-14992@stampinup.net
DTSTART;TZID=America/New_York:20191122T093000
DTEND;TZID=America/New_York:20191122T113000
CREATED:20190930T144719
DESCRIPTION:Create five classic Christmas Cards with envelopes using new Ho
 liday Catalog products! Register &amp\; pay $20 by Nov. 15th. Please brin
 g your own adhesive or purchase from me before class. Orders welcome. Tell
  a Friend! All three Christams Cards Classes are DIFFERENT designs.\nNancy
 Ferb50@gmail.com\n\nEvent link: https://stampinup.net/crm/events/14992
LAST-MODIFIED:20190930T144719
LOCATION:My Winter Home
ORGANIZER;CN=Nancy Ferb:mailto:nancyferb50@gmail.com
SUMMARY:Christmas Cards Class #2
URL;VALUE=URI:https://stampinup.net/crm/events/14992
END:VEVENT
END:VCALENDAR
