BEGIN:VCALENDAR
VERSION:2.0
PRODID:icalendar-ruby
CALSCALE:GREGORIAN
METHOD:PUBLISH
BEGIN:VEVENT
DTSTAMP:20260425T231013Z
UID:event-149839@stampinup.net
DTSTART;TZID=America/Los_Angeles:20220801T070000
DTEND;TZID=America/Los_Angeles:20220801T210000
CREATED:20220414T231227
DESCRIPTION:Meeting purpose: To build a community of stampers and friends\
 , to share business and creative ideas\, and to have fun together!  We wi
 ll have a greeting card swap and a make &amp\; take.\n\n\nEvent link: http
 s://stampinup.net/crm/events/149839
LAST-MODIFIED:20220414T231227
ORGANIZER;CN=Jo Golden:mailto:jo@goldenhome.org
SUMMARY:Stampin Sisters In Person Team Gathering
URL;VALUE=URI:https://stampinup.net/crm/events/149839
END:VEVENT
END:VCALENDAR
