BEGIN:VCALENDAR
VERSION:2.0
PRODID:icalendar-ruby
CALSCALE:GREGORIAN
METHOD:PUBLISH
BEGIN:VEVENT
DTSTAMP:20260420T094347Z
UID:event-149551@stampinup.net
DTSTART;TZID=Australia/Sydney:20220623T200000
DTEND;TZID=Australia/Sydney:20220623T210000
CREATED:20220411T170527
DESCRIPTION:A time to share ideas and learn the latest news from Stampin' U
 p!  A coming together to see how everyone is doing and strengthening our 
 team friendships.\n\nEvent link: https://stampinup.net/crm/events/149551
LAST-MODIFIED:20220411T170527
LOCATION:Virtual
ORGANIZER;CN=Janine Rawlins:mailto:jannic@bigpond.com
SUMMARY:Inksationals Virtual Team Meeting
URL;VALUE=URI:https://stampinup.net/crm/events/149551
END:VEVENT
END:VCALENDAR
