BEGIN:VCALENDAR
VERSION:2.0
PRODID:icalendar-ruby
CALSCALE:GREGORIAN
METHOD:PUBLISH
BEGIN:VEVENT
DTSTAMP:20260422T093110Z
UID:event-149532@stampinup.net
DTSTART;VALUE=DATE:20220411
DTEND;VALUE=DATE:20220411
CREATED:20220411T151220
DESCRIPTION:Do you love to craft and are you looking for a kit that ships d
 irectly to you each month with special perks each month? Then you will LOV
 E “YOUR CREATIVITY AWAITS”!  \n\nWith “Your Creativity Awaits”\,
  each month you will receive an exclusive make and take kit (2 cards of 4 
 designs) plus a PDF Tutorial.  All for only $60 per month shipped direct
 ly to you or $56 local pick up.\n\nEach month\, the Design Team will choo
 se one stamp set or bundle and design fun projects for you to create.  T
 he stampset is included in your kit. If you don't already own the dies or 
 punch\, you may add it to your kit or use what you have. \n\nAs a member 
 of Your Creativity Awaits\, each month you'll enjoy the following:\n• Fe
 atured stamp set\n\n• 8 Cards (2 each of 4 different designs) - designed
  by Your Creativity Awaits Team\n\n• Exclusive Project tutorials you can
  follow along with to create your cards\n\n• Extra product (value will d
 epend on the price of the stamp set)\n\nMay Kit includes Grassy Grove Stam
 p Set (pre-release from the 2022-2023 Annual Catalogue)\nAdd-on dies for $
 58 extra!\n\nDeadline to sign up for the May Kit is May 8th\n\n\nEvent li
 nk: https://stampinup.net/crm/events/149532
LAST-MODIFIED:20220411T151336
ORGANIZER;CN=Melva Peters:mailto:stampinwithmelva@gmail.com
SUMMARY:Your Creativity Awaits - May Kit - Registration Opens
URL;VALUE=URI:https://stampinup.net/crm/events/149532
END:VEVENT
END:VCALENDAR
