BEGIN:VCALENDAR
VERSION:2.0
PRODID:icalendar-ruby
CALSCALE:GREGORIAN
METHOD:PUBLISH
BEGIN:VEVENT
DTSTAMP:20260419T233454Z
UID:event-149480@stampinup.net
DTSTART;TZID=Australia/Sydney:20220828T140000
DTEND;TZID=Australia/Sydney:20220828T170000
CREATED:20220411T005248
DESCRIPTION:This class we'll be using Abigail Rose Suite\n\nI will be runni
 ng the class using Zoom\, online – link and instructions emailed the day
  before.\nCustomers $30\, Team members $25. Plus postage if required.\nPa
 yment required before Kit sent out - please contact me to discuss.\nRegist
 ration deadline for this class is 8th August 2022 so I have time to send
  them out in the post.\n\nDon't forget\, when you spend over $50 with me 
 as your demonstrator I will send you a Thank you gift!\nMy Current Host Co
 de for purchases under $250 can be found on my Specials page.\n\nCost incl
 udes a precut kit of the card\, papers and embellishments\, and written in
 structions for 3 cards/items.\nYou will need your own stamps\, inks and ad
 hesives.\n\nRSVP on this event or email to let me know if you would like t
 o join in.\nMy Email is: byfihandcrafts@gmail.com\n\nLet me know if you ne
 ed more information\, or any help with ordering.\nFiona . . . Let’s Cr
 eate!\n\n\nEvent link: https://stampinup.net/crm/events/149480
LAST-MODIFIED:20220808T041955
LOCATION:Zoom Online
ORGANIZER;CN=Fiona Fernandez:mailto:Byfihandcrafts@gmail.com
SUMMARY:Card making class - Online
URL;VALUE=URI:https://stampinup.net/crm/events/149480
END:VEVENT
END:VCALENDAR
