BEGIN:VCALENDAR
VERSION:2.0
PRODID:icalendar-ruby
CALSCALE:GREGORIAN
METHOD:PUBLISH
BEGIN:VEVENT
DTSTAMP:20260424T131423Z
UID:event-148628@stampinup.net
DTSTART;TZID=America/Los_Angeles:20220902T190000
DTEND;TZID=America/Los_Angeles:20220902T203000
CREATED:20220403T001148
DESCRIPTION:This is my 3rd year running an In Colour club – an affordable
  way to build your new In Colour Collection! You don’t want to miss this
  year’s gorgeous colours!\n\nClasses will take place via a zoom/ FB live
  group on the first Friday of the month* from 7pm-8:30pm starting on June 
 3rd and continuing through October 2022. (Exact dates are June 3\, *July 8
 \, Aug 5\, Sep 2\, &amp\; Oct 7).\n\nMy annual In Color Club will be a fun
  five month club! Each month you'll receive a collection of one of the ama
 zing new In Colors: Sweet Sorbet\, Tahitian Tide\, Parakeet Party\, Orchid
  Oasis\, Starry Sky\n\nEach month you'll get one of the five colours' supp
 lies:\n\nInk Pad\, Re-inker\, Cardstock\, 2 yards of coordinating ribbon\,
 1/5 of a package of 6x6 In Colour DSP\, Blends Combo\, Coordinating Baker
 ’s Twine\n\n*Make-n-Take Package for three fun cards you can complete at
  home with your new products while joining me on an exclusive FB Group!\n\
 nOn your fifth month you'll also receive a package of the coordinating In 
 Colour Matte Dots and a ¼ pack of the In Colour 6X6 Glimmer Paper as a th
 ank you gift from me!\n\nThe cost to you is $72 per month for the five mo
 nths... a totally manageable way to get all these amazing products! Paymen
 ts due on the 10th of each month (beginning on May 10th) and kits will shi
 p on the 17th of the month prior to the class)\nAny questions? Reach out t
 o me at leahdixon41@gmail.com\n\nRegister by filling out the form below.\n
 https://form.jotform.com/leahdixon41/in-colour-club-2022-2024\n\nI am so 
 excited to stamp with you on these Club nights!\n\n\nEvent link: https://s
 tampinup.net/crm/events/148628
LAST-MODIFIED:20220407T174201
LOCATION:Zoom/Private FB Group\, From the Comfort of Your Home
ORGANIZER;CN=Leah Dixon:mailto:leahdixon41@gmail.com
SUMMARY:In Colour Club 2022-2024
URL;VALUE=URI:https://stampinup.net/crm/events/148628
END:VEVENT
END:VCALENDAR
