BEGIN:VCALENDAR
VERSION:2.0
PRODID:icalendar-ruby
CALSCALE:GREGORIAN
METHOD:PUBLISH
BEGIN:VEVENT
DTSTAMP:20260423T145402Z
UID:event-148490@stampinup.net
DTSTART;TZID=America/New_York:20220519T190000
DTEND;TZID=America/New_York:20220519T200000
CREATED:20220401T201917
DESCRIPTION:For this class I will be showing you the retiform technique. If
  you would like to try this technique as I demonstrate it\, you will need:
  post it note 3x3 work but if you have the longer ones 3x4 it might be eas
 ier\, ink\, daubers\, stampset\, acrylic\, blocks and stamp cleaner. The p
 icture doesn't show the finished card but the technique used. Be sure to r
 egister so I can send you the zoom invite.\n\nEvent link: https://stampinu
 p.net/crm/events/148490
LAST-MODIFIED:20220429T092255
LOCATION:zoom\, zoom
ORGANIZER;CN=Tracie Clarke:mailto:craftwithtlc@gmail.com
SUMMARY:Free Class on Retiform Card Technique
URL;VALUE=URI:https://stampinup.net/crm/events/148490
END:VEVENT
END:VCALENDAR
