BEGIN:VCALENDAR
VERSION:2.0
PRODID:icalendar-ruby
CALSCALE:GREGORIAN
METHOD:PUBLISH
BEGIN:VEVENT
DTSTAMP:20260420T094316Z
UID:event-148313@stampinup.net
DTSTART;VALUE=DATE:20220408
DTEND;VALUE=DATE:20220408
CREATED:20220331T140422
DESCRIPTION:Every weekend a new challenge!\n\nPlay along with me!  Grab so
 me of your stash and create a card that fits the chosen colors (pick at le
 ast three).\nThis is a color challenge\, but you can use the photo as insp
 iration...\n\nJust have fun!\n  \nJust be inspired!  Share what you mak
 e with me.\n\n\n\n\n\n \n\nEvent link: https://stampinup.net/crm/events/1
 48313
LAST-MODIFIED:20220331T140422
LOCATION:On-Line
ORGANIZER;CN=Jolanda Johnstone:mailto:theinquespotstudio@yahoo.com
SUMMARY:WEEKEND CHALLENGE - COLOR  
URL;VALUE=URI:https://stampinup.net/crm/events/148313
END:VEVENT
END:VCALENDAR
