BEGIN:VCALENDAR
VERSION:2.0
PRODID:icalendar-ruby
CALSCALE:GREGORIAN
METHOD:PUBLISH
BEGIN:VEVENT
DTSTAMP:20260420T182448Z
UID:event-148301@stampinup.net
DTSTART;VALUE=DATE:20220410
DTEND;VALUE=DATE:20220410
CREATED:20220331T125334
DESCRIPTION:Sketch Challenge for this week.  Play along with me!\nHave fun
  creating...\n\nEvent link: https://stampinup.net/crm/events/148301
LAST-MODIFIED:20220331T125334
LOCATION:On-Line
ORGANIZER;CN=Jolanda Johnstone:mailto:theinquespotstudio@yahoo.com
SUMMARY:Sketch Challenge - SS026
URL;VALUE=URI:https://stampinup.net/crm/events/148301
END:VEVENT
END:VCALENDAR
