BEGIN:VCALENDAR
VERSION:2.0
PRODID:icalendar-ruby
CALSCALE:GREGORIAN
METHOD:PUBLISH
BEGIN:VEVENT
DTSTAMP:20260423T061021Z
UID:event-147918@stampinup.net
DTSTART;TZID=America/Chicago:20220617T180000
DTEND;TZID=America/Chicago:20220617T210000
CREATED:20220327T151058
DESCRIPTION:Join Karina and me as we demonstrate TEN projects using all New
  Catalog stamps\, papers\, and trimmings!  Fun\, interactive event includ
 es drawings\, games\, and LOADS of creative inspiration!  Registration li
 nk coming soon Ticket options include our all-inclusive ticket with a por
 tion of all the papers and ribbons\, plus an assortment of embellishments\
 , pdf tutorials\, and more!  OR online access only if you don't want the 
 goody bag and project kits.  \n\nEvent link: https://stampinup.net/crm/e
 vents/147918
LAST-MODIFIED:20220531T075927
LOCATION:Facebook
ORGANIZER;CN=Candy Rattray:mailto:crattray@sbcglobal.net
SUMMARY:New Catalog Paper Party Online Event
URL;VALUE=URI:https://stampinup.net/crm/events/147918
END:VEVENT
END:VCALENDAR
