BEGIN:VCALENDAR
VERSION:2.0
PRODID:icalendar-ruby
CALSCALE:GREGORIAN
METHOD:PUBLISH
BEGIN:VEVENT
DTSTAMP:20260422T094313Z
UID:event-14785@stampinup.net
DTSTART;TZID=America/New_York:20191007T183000
DTEND;TZID=America/New_York:20191007T210000
CREATED:20190930T074739
DESCRIPTION:Join me to make 4 quick and easy cards with coordinating envelo
 pes using the latest Stampin' Up! products.  Bring your own adhesive and 
 scissors.\nPrepayment is required.  Cost is $10.00\n\nEvent link: https:/
 /stampinup.net/crm/events/14785
LAST-MODIFIED:20190930T074739
LOCATION:The Craft Pad\, 4351 Union Deposit Rd\, Harrisburg PA 17111
ORGANIZER;CN=Su Deitch:mailto:thecraftpad@comcast.net
SUMMARY:Just Cards Class
URL;VALUE=URI:https://stampinup.net/crm/events/14785
END:VEVENT
END:VCALENDAR
