BEGIN:VCALENDAR
VERSION:2.0
PRODID:icalendar-ruby
CALSCALE:GREGORIAN
METHOD:PUBLISH
BEGIN:VEVENT
DTSTAMP:20260419T233439Z
UID:event-14648@stampinup.net
DTSTART;TZID=America/New_York:20191017T183000
DTEND;TZID=America/New_York:20191017T203000
CREATED:20190929T200845
DESCRIPTION:Come make as many quick and easy cards as you like or have time
  to make at this monthly event for just $2 each!. Each month will feature 
 a different theme with thre to six designs. Please note that the designs w
 ill have some color and embellishment variations due to packaging availabi
 lity of DSP\, ribbon and other embellishments.\n\nWe will be using product
 s from the Holiday and Annual Catalogs to create cards for Halloween\, Tha
 nksgiving and yes\, we are starting our Christmas Card making! \n\nUnless
 \, this is your FIRST stamping event\, your own adhesive is a MUST! This i
 ncludes SNAIL\, dimensionals\, glue dots\, glue\, tape\, etc...All other s
 upplies will be provided.\n\nThere are ONLY 6 spots avallable for each ses
 sion.  Contact me today to reserve yours!\n\nEvent link: https://stampinu
 p.net/crm/events/14648
LAST-MODIFIED:20190929T200845
LOCATION:the Stamp Pad\, Raleigh\, NC
ORGANIZER;CN=Tracie Langley:mailto:tracie@stampwithtracie.com
SUMMARY:Cute Cards Quick
URL;VALUE=URI:https://stampinup.net/crm/events/14648
END:VEVENT
END:VCALENDAR
