BEGIN:VCALENDAR
VERSION:2.0
PRODID:icalendar-ruby
CALSCALE:GREGORIAN
METHOD:PUBLISH
BEGIN:VEVENT
DTSTAMP:20260419T233511Z
UID:event-146429@stampinup.net
DTSTART;TZID=America/New_York:20220721T190000
DTEND;TZID=America/New_York:20220721T210000
CREATED:20220311T140512
DESCRIPTION:What to Do with Paper Scraps? Make Some Beautiful IMPERFECT Han
 dmade Cards\n\nStep out the zone of creating the "Perfect" card! Let me sh
 ow you a 3-4 card layouts that allow you to imperfect! Bonus is you will l
 earn how to use leftover scraps of paper and cardstock!\n\nIf you’ve got
  scrapbook paper and designer series paper that you craft with like I do y
 ou probably have tons of paper scraps. Turn those paper scraps into handma
 de cards!\n\nThis class you will be using your own stash so this class is 
 a great price of only $10! It's a win-win (great price\, use up your stash
 ). Dimetnions will be provided to you. Some we will be preparing togehter 
 online during the class.\n\nPDF tutorials will be provided with this class
 .\n\nThis class will be held online Zoom class\, so it does not matter WHE
 RE in Canada or the US you are tuning in from!  \n\nIt something comes up
  during the class\, don't worry! Card sessions will also be recorded for y
 ou to view so you can watch anytime!\n\nPlease check your time zone for th
 is class. It is held at 7 PM Eastern Standard Time (Toronto\, Canada)\n\nR
 egister and etransfer $10 to NorthernStamper@gmail.com\n\nEvent link: http
 s://stampinup.net/crm/events/146429
LAST-MODIFIED:20220716T111114
LOCATION:OnLine\, Northern Stamper's Workshop - Ajax
ORGANIZER;CN=Tina Kvrgic:mailto:northernstamper@gmail.com
SUMMARY:Perfectly Imperfect Card Class
URL;VALUE=URI:https://stampinup.net/crm/events/146429
END:VEVENT
END:VCALENDAR
