BEGIN:VCALENDAR
VERSION:2.0
PRODID:icalendar-ruby
CALSCALE:GREGORIAN
METHOD:PUBLISH
BEGIN:VEVENT
DTSTAMP:20260423T104711Z
UID:event-146308@stampinup.net
DTSTART;TZID=America/New_York:20220918T190000
DTEND;TZID=America/New_York:20220918T200000
CREATED:20220310T151622
DESCRIPTION:Join me as I highlight one of the Stampin' Up products \n\nEve
 nt link: https://stampinup.net/crm/events/146308
LAST-MODIFIED:20220310T151622
LOCATION:Facebook Live\, https://www.facebook.com/ybstampin/
ORGANIZER;CN=Nancy Dodge:mailto:dodggnvs04@msn.com
SUMMARY:Product Highlight
URL;VALUE=URI:https://stampinup.net/crm/events/146308
END:VEVENT
END:VCALENDAR
