BEGIN:VCALENDAR
VERSION:2.0
PRODID:icalendar-ruby
CALSCALE:GREGORIAN
METHOD:PUBLISH
BEGIN:VEVENT
DTSTAMP:20260422T203923Z
UID:event-146305@stampinup.net
DTSTART;TZID=America/New_York:20221127T190000
DTEND;TZID=America/New_York:20221127T200000
CREATED:20220310T145319
DESCRIPTION:We gather on Zoom on the 4th Sunday each month to assemble any 
 All-Inclusive kit or Paper Pumpkin kit. This is a great way to meet new pe
 ople and enjoy crafting.\nContact me for Zoom link\n\nEvent link: https://
 stampinup.net/crm/events/146305
LAST-MODIFIED:20230328T110820
LOCATION:Zoom
ORGANIZER;CN=Nancy Dodge:mailto:dodggnvs04@msn.com
SUMMARY:Kit Night
URL;VALUE=URI:https://stampinup.net/crm/events/146305
END:VEVENT
END:VCALENDAR
