BEGIN:VCALENDAR
VERSION:2.0
PRODID:icalendar-ruby
CALSCALE:GREGORIAN
METHOD:PUBLISH
BEGIN:VEVENT
DTSTAMP:20260423T151312Z
UID:event-146281@stampinup.net
DTSTART;TZID=America/New_York:20220611T180000
DTEND;TZID=America/New_York:20220611T203000
CREATED:20220310T125835
DESCRIPTION:We will be making 8 cards. Two each of 4 designs shown in the p
 icture. One of the cards is a pop up box card with beautiful flowers diecu
 t from some of the new Designer Series Paper (DSP). Some of the cards will
  come in two different colors because of the variations in the DSP\, but y
 ou will make one of each color. Only one color is shown in the picture. Co
 st of the class materials is $22 plus $4 shipping if you need it mailed to
  you. Please RSVP no later than Saturday\, May 21.\n\nEvent link: https://
 stampinup.net/crm/events/146281
LAST-MODIFIED:20220525T131755
LOCATION:zoom\, zoom
ORGANIZER;CN=Tracie Clarke:mailto:craftwithtlc@gmail.com
SUMMARY:June Zoom Card Class
URL;VALUE=URI:https://stampinup.net/crm/events/146281
END:VEVENT
END:VCALENDAR
