BEGIN:VCALENDAR
VERSION:2.0
PRODID:icalendar-ruby
CALSCALE:GREGORIAN
METHOD:PUBLISH
BEGIN:VEVENT
DTSTAMP:20260423T144158Z
UID:event-146278@stampinup.net
DTSTART;TZID=America/New_York:20220514T180000
DTEND;TZID=America/New_York:20220514T200000
CREATED:20220310T125228
DESCRIPTION:I will be charging a $10 fee for this Annual Catalog Debut clas
 s (mini catalog debuts will remain free). Your fee will cover your partici
 pant packet which will include\, a couple of card kits\, a sample of one o
 f the new consumable products (i.e. Desinger series paper or embellishment
 s)\, and a $5 zoom class coupon to apply to your next online class card ki
 t. \nRSVP by April 23 to attend this fun class where I will show you some
  of the latest products from Stampin' Up.\n\nEvent link: https://stampinup
 .net/crm/events/146278
LAST-MODIFIED:20220429T092148
LOCATION:online\, zoom
ORGANIZER;CN=Tracie Clarke:mailto:craftwithtlc@gmail.com
SUMMARY:New Annual Catalog Debut 
URL;VALUE=URI:https://stampinup.net/crm/events/146278
END:VEVENT
END:VCALENDAR
