BEGIN:VCALENDAR
VERSION:2.0
PRODID:icalendar-ruby
CALSCALE:GREGORIAN
METHOD:PUBLISH
BEGIN:VEVENT
DTSTAMP:20260420T225123Z
UID:event-145516@stampinup.net
DTSTART;VALUE=DATE:20220809
DTEND;VALUE=DATE:20220809
CREATED:20220304T141757
DESCRIPTION:A monthly crafting kit delivered right to your door.  Subscrib
 e by the 10th of the month to get this month's kit.  \nSubscribe HERE: 
 https://www.paperpumpkin.com/en-ca/sign-up/?demoid=1000784\n\nEvent link: 
 https://stampinup.net/crm/events/145516
LAST-MODIFIED:20220304T151413
ORGANIZER;CN=Jenn Tinline:mailto:fun@stampwithjenn.com
SUMMARY:Subscribe to Paper Pumpkin
URL;VALUE=URI:https://stampinup.net/crm/events/145516
END:VEVENT
END:VCALENDAR
