BEGIN:VCALENDAR
VERSION:2.0
PRODID:icalendar-ruby
CALSCALE:GREGORIAN
METHOD:PUBLISH
BEGIN:VEVENT
DTSTAMP:20260424T233140Z
UID:event-144932@stampinup.net
DTSTART;TZID=Europe/London:20220501T140000
DTEND;TZID=Europe/London:20220501T160000
CREATED:20220301T085543
DESCRIPTION:A monthly card making class suitable for both beginners and mor
 e advanced papercrafters alike.\n\nWe generally make 4 individual cards an
 d everything is provided\, although I do ask you to bring your own glue.\n
 Numbers are limited so booking is essential.\n\nEvent link: https://stampi
 nup.net/crm/events/144932
LAST-MODIFIED:20220412T065552
LOCATION:Ashton On Mersey United Reform Church\, 20 Whitefield Road\, Ashto
 n on Mersey\, M33 6NZ
ORGANIZER;CN=Linda Ellis:mailto:linda@strawberry.me.uk
SUMMARY:Sunday Simple Stamping
URL;VALUE=URI:https://stampinup.net/crm/events/144932
END:VEVENT
END:VCALENDAR
