BEGIN:VCALENDAR
VERSION:2.0
PRODID:icalendar-ruby
CALSCALE:GREGORIAN
METHOD:PUBLISH
BEGIN:VEVENT
DTSTAMP:20260419T121637Z
UID:event-14419@stampinup.net
DTSTART;TZID=Australia/Brisbane:20191217T100000
DTEND;TZID=Australia/Brisbane:20191217T120000
CREATED:20190928T200111
DESCRIPTION:\n\nEvent link: https://stampinup.net/crm/events/14419
LAST-MODIFIED:20190928T200111
ORGANIZER;CN=Lesley Jendra:mailto:lesley.j.jendra@gmail.com
SUMMARY:Card class
URL;VALUE=URI:https://stampinup.net/crm/events/14419
END:VEVENT
END:VCALENDAR
