BEGIN:VCALENDAR
VERSION:2.0
PRODID:icalendar-ruby
CALSCALE:GREGORIAN
METHOD:PUBLISH
BEGIN:VEVENT
DTSTAMP:20260423T173946Z
UID:event-143494@stampinup.net
DTSTART;VALUE=DATE:20220630
DTEND;VALUE=DATE:20220630
CREATED:20220217T123129
DESCRIPTION:Today is your last chance to order from the Jan.-June Mini Cata
 log. You can order at my online store here before 10:50 p.m PT.\n\nEvent 
 link: https://stampinup.net/crm/events/143494
LAST-MODIFIED:20220217T123209
ORGANIZER;CN=Eva Dietz:mailto:dedietz@comcast.net
SUMMARY:Jan. -June Mini Catalog Ends Today
URL;VALUE=URI:https://stampinup.net/crm/events/143494
END:VEVENT
END:VCALENDAR
