BEGIN:VCALENDAR
VERSION:2.0
PRODID:icalendar-ruby
CALSCALE:GREGORIAN
METHOD:PUBLISH
BEGIN:VEVENT
DTSTAMP:20260419T233534Z
UID:event-143054@stampinup.net
DTSTART;TZID=Australia/Sydney:20220626T140000
DTEND;TZID=Australia/Sydney:20220626T170000
CREATED:20220211T150900
DESCRIPTION:This class we'll be using item no 58819\n\nTEXTURE CHIC SUITE C
 OLLECTION (ENGLISH)\n\nI will be running the class using Zoom\, online –
  link and instructions emailed the day before.\nCustomers $30\, Team membe
 rs $25. Plus postage if required.\nPayment required before Kit sent out -
  please contact me to discuss.\nRegistration deadline for this class is 11
 th June 2022 so I have time to send them out in the post.\n\nDon't forge
 t\, when you spend over $50 with me as your demonstrator I will send you 
 a Thank you gift!\nMy Current Host Code for purchases under $250 can be fo
 und on my Specials page.\n\nCost includes a precut kit of the card\, paper
 s and embellishments\, and written instructions for 3 cards/items.\nYou wi
 ll need your own stamps\, inks and adhesives.\n\nRSVP on this event or ema
 il to let me know if you would like to join in.\nMy Email is: byfihandcraf
 ts@gmail.com\n\nLet me know if you need more information\, or any help wi
 th ordering.\nFiona . . . Let’s Create!\n\n\nEvent link: https://stampi
 nup.net/crm/events/143054
LAST-MODIFIED:20220614T044546
LOCATION:Zoom Online
ORGANIZER;CN=Fiona Fernandez:mailto:Byfihandcrafts@gmail.com
SUMMARY:Card making class - Online
URL;VALUE=URI:https://stampinup.net/crm/events/143054
END:VEVENT
END:VCALENDAR
